View In:
ArcGIS JavaScript
ArcGIS Online Map Viewer
ArcGIS Earth
ArcMap
View Footprint In:
ArcGIS Online Map Viewer
Service Description: gl_bathy
Name: gl_bathy
Description:
Single Fused Map Cache: false
Extent:
XMin: -92.20041666699996
YMin: 40.999583334006786
XMax: -76.04958333431266
YMax: 49.50041666700008
Spatial Reference: 4269
(4269)
Initial Extent:
XMin: -92.20041666699996
YMin: 40.999583334006786
XMax: -76.04958333431266
YMax: 49.50041666700008
Spatial Reference: 4269
(4269)
Full Extent:
XMin: -92.20041666699996
YMin: 40.999583334006786
XMax: -76.04958333431266
YMax: 49.50041666700008
Spatial Reference: 4269
(4269)
Pixel Size X: 8.333333332999999E-4
Pixel Size Y: 8.333333332999995E-4
Band Count: 1
Pixel Type: F32
RasterFunction Infos: {"rasterFunctionInfos": [
{
"name": "None",
"description": "Make a Raster or Raster Dataset into a Function Raster Dataset.",
"help": ""
},
{
"name": "Aspect",
"description": "Shows which direction a pixel is facing, where 0 is due north and angles increase clockwise to 360.",
"help": ""
},
{
"name": "AspectSlope",
"description": "Creates a raster that simultaneously displays the aspect (direction) and slope(steepness) of a continuous surface, as represented in a digital elevation model.",
"help": ""
},
{
"name": "Hillshade",
"description": "Creates a 3D representation of the surface, with the sun's relative position taken into account for shading the image.",
"help": ""
},
{
"name": "Slope (1)",
"description": "Calculates the rate of change from one pixel value to its neighbors.",
"help": ""
},
{
"name": "Slope (2)",
"description": "Calculates the rate of change from one pixel value to its neighbors.",
"help": ""
},
{
"name": "Slope",
"description": "Calculates the rate of change from one pixel value to its neighbors.",
"help": ""
}
]}
Mensuration Capabilities: Basic
Has Histograms: true
Has Colormap: false
Has Multi Dimensions : false
Rendering Rule:
Min Scale: 0
Max Scale: 0
Copyright Text:
Service Data Type: esriImageServiceDataTypeElevation
Min Values: -401.21906465291977
Max Values: 497.98417085409164
Mean Values: 77.81384036218047
Standard Deviation Values: 187.95657077242265
Object ID Field: OBJECTID
Fields:
-
OBJECTID
(
type: esriFieldTypeOID, alias: OBJECTID
)
-
Shape
(
type: esriFieldTypeGeometry, alias: Shape
)
-
Name
(
type: esriFieldTypeString, alias: Name, length: 200
)
-
MinPS
(
type: esriFieldTypeDouble, alias: MinPS
)
-
MaxPS
(
type: esriFieldTypeDouble, alias: MaxPS
)
-
LowPS
(
type: esriFieldTypeDouble, alias: LowPS
)
-
HighPS
(
type: esriFieldTypeDouble, alias: HighPS
)
-
Category
(
type: esriFieldTypeInteger, alias: Category
, Coded Values:
[0: Unknown]
, [1: Primary]
, [2: Overview]
, ...6 more...
)
-
Tag
(
type: esriFieldTypeString, alias: Tag, length: 100
)
-
GroupName
(
type: esriFieldTypeString, alias: GroupName, length: 100
)
-
ProductName
(
type: esriFieldTypeString, alias: ProductName, length: 100
)
-
CenterX
(
type: esriFieldTypeDouble, alias: CenterX
)
-
CenterY
(
type: esriFieldTypeDouble, alias: CenterY
)
-
ZOrder
(
type: esriFieldTypeInteger, alias: ZOrder
)
-
Shape_Length
(
type: esriFieldTypeDouble, alias: Shape_Length
)
-
Shape_Area
(
type: esriFieldTypeDouble, alias: Shape_Area
)
Default Mosaic Method: Northwest
Allowed Mosaic Methods: NorthWest,Center,LockRaster,ByAttribute,Nadir,Viewpoint,Seamline,None
SortField:
SortValue: null
Mosaic Operator: First
Default Compression Quality: 75
Default Resampling Method: Bilinear
Max Record Count: 1000
Max Image Height: 4100
Max Image Width: 15000
Max Download Image Count: 20
Max Mosaic Image Count: 20
Allow Raster Function: true
Allow Copy: true
Allow Analysis: true
Allow Compute TiePoints: false
Supports Statistics: true
Supports Advanced Queries: true
Use StandardizedQueries: true
Raster Type Infos:
Name: Raster Dataset
Description: Supports all ArcGIS Raster Datasets
Help:
Has Raster Attribute Table: false
Edit Fields Info: null
Ownership Based AccessControl For Rasters: null
Child Resources:
Info
Histograms
Statistics
Key Properties
Legend
Raster Function Infos
Supported Operations:
Export Image
Query
Identify
Download Rasters
Measure
Compute Histograms
Compute Statistics Histograms
Get Samples
Compute Class Statistics
Query Boundary
Compute Pixel Location
Compute Angles
Validate
Project
Calculate Volume