View In:
ArcGIS JavaScript
ArcGIS Online Map Viewer
ArcGIS Earth
ArcMap
View Footprint In:
ArcGIS Online Map Viewer
Service Description: dems2
Name: dems2
Description:
Single Fused Map Cache: false
Extent:
XMin: 2.5744996502126783E7
YMin: 598766.7827105348
XMax: 2.6102500269790657E7
YMax: 985000.7671711469
Spatial Reference: PROJCS["NAD_1983_2011_StatePlane_Michigan_North_FIPS_2111_Ft_Intl",GEOGCS["GCS_NAD_1983_2011",DATUM["D_NAD_1983_2011",SPHEROID["GRS_1980",6378137.0,298.257222101]],PRIMEM["Greenwich",0.0],UNIT["Degree",0.0174532925199433]],PROJECTION["Lambert_Conformal_Conic"],PARAMETER["false_easting",26246719.160105],PARAMETER["false_northing",0.0],PARAMETER["central_meridian",-87.0],PARAMETER["standard_parallel_1",45.4833333333333],PARAMETER["standard_parallel_2",47.05],PARAMETER["latitude_of_origin",44.7833333333333],UNIT["Foot",0.3048]]
Initial Extent:
XMin: 2.5744996502126783E7
YMin: 598766.7827105348
XMax: 2.6102500269790657E7
YMax: 985000.7671711469
Spatial Reference: PROJCS["NAD_1983_2011_StatePlane_Michigan_North_FIPS_2111_Ft_Intl",GEOGCS["GCS_NAD_1983_2011",DATUM["D_NAD_1983_2011",SPHEROID["GRS_1980",6378137.0,298.257222101]],PRIMEM["Greenwich",0.0],UNIT["Degree",0.0174532925199433]],PROJECTION["Lambert_Conformal_Conic"],PARAMETER["false_easting",26246719.160105],PARAMETER["false_northing",0.0],PARAMETER["central_meridian",-87.0],PARAMETER["standard_parallel_1",45.4833333333333],PARAMETER["standard_parallel_2",47.05],PARAMETER["latitude_of_origin",44.7833333333333],UNIT["Foot",0.3048]]
Full Extent:
XMin: 2.5744996502126783E7
YMin: 598766.7827105348
XMax: 2.6102500269790657E7
YMax: 985000.7671711469
Spatial Reference: PROJCS["NAD_1983_2011_StatePlane_Michigan_North_FIPS_2111_Ft_Intl",GEOGCS["GCS_NAD_1983_2011",DATUM["D_NAD_1983_2011",SPHEROID["GRS_1980",6378137.0,298.257222101]],PRIMEM["Greenwich",0.0],UNIT["Degree",0.0174532925199433]],PROJECTION["Lambert_Conformal_Conic"],PARAMETER["false_easting",26246719.160105],PARAMETER["false_northing",0.0],PARAMETER["central_meridian",-87.0],PARAMETER["standard_parallel_1",45.4833333333333],PARAMETER["standard_parallel_2",47.05],PARAMETER["latitude_of_origin",44.7833333333333],UNIT["Foot",0.3048]]
Pixel Size X: 1.738696247684391
Pixel Size Y: 1.7386962476843981
Band Count: 1
Pixel Type: F32
RasterFunction Infos: {"rasterFunctionInfos": [
{
"name": "None",
"description": "Make a Raster or Raster Dataset into a Function Raster Dataset.",
"help": ""
},
{
"name": "Aspect",
"description": "Shows which direction a pixel is facing, where 0 is due north and angles increase clockwise to 360.",
"help": ""
},
{
"name": "Hillshade",
"description": "Creates a 3D representation of the surface, with the sun's relative position taken into account for shading the image.",
"help": ""
},
{
"name": "Slope",
"description": "Calculates the rate of change from one pixel value to its neighbors.",
"help": ""
}
]}
Mensuration Capabilities:
Has Histograms: true
Has Colormap: false
Has Multi Dimensions : false
Rendering Rule:
Min Scale: 0
Max Scale: 0
Copyright Text:
Service Data Type: esriImageServiceDataTypeElevation
Min Values: 742.1098351478577
Max Values: 1623.9497351646428
Mean Values: 1134.3236270220034
Standard Deviation Values: 198.77202112399982
Object ID Field: OBJECTID
Fields:
-
OBJECTID
(
type: esriFieldTypeOID, alias: OBJECTID
)
-
Shape
(
type: esriFieldTypeGeometry, alias: Shape
)
-
Name
(
type: esriFieldTypeString, alias: Name, length: 200
)
-
MinPS
(
type: esriFieldTypeDouble, alias: MinPS
)
-
MaxPS
(
type: esriFieldTypeDouble, alias: MaxPS
)
-
LowPS
(
type: esriFieldTypeDouble, alias: LowPS
)
-
HighPS
(
type: esriFieldTypeDouble, alias: HighPS
)
-
Category
(
type: esriFieldTypeInteger, alias: Category
, Coded Values:
[0: Unknown]
, [1: Primary]
, [2: Overview]
, ...6 more...
)
-
Tag
(
type: esriFieldTypeString, alias: Tag, length: 100
)
-
GroupName
(
type: esriFieldTypeString, alias: GroupName, length: 100
)
-
ProductName
(
type: esriFieldTypeString, alias: ProductName, length: 100
)
-
CenterX
(
type: esriFieldTypeDouble, alias: CenterX
)
-
CenterY
(
type: esriFieldTypeDouble, alias: CenterY
)
-
ZOrder
(
type: esriFieldTypeInteger, alias: ZOrder
)
-
LE90
(
type: esriFieldTypeSingle, alias: LE90
)
-
CE90
(
type: esriFieldTypeSingle, alias: CE90
)
-
Date_Start
(
type: esriFieldTypeDate, alias: Date_Start, length: 8
)
-
Date_End
(
type: esriFieldTypeDate, alias: Date_End, length: 8
)
-
DEM_Type
(
type: esriFieldTypeSmallInteger, alias: DEM_Type
)
-
VerticalDatum
(
type: esriFieldTypeString, alias: VerticalDatum, length: 16
)
-
Link2Metadata
(
type: esriFieldTypeString, alias: Link2Metadata, length: 100
)
-
Shape_Length
(
type: esriFieldTypeDouble, alias: Shape_Length
)
-
Shape_Area
(
type: esriFieldTypeDouble, alias: Shape_Area
)
Default Mosaic Method: Northwest
Allowed Mosaic Methods: NorthWest,Center,LockRaster,ByAttribute,Nadir,Viewpoint,Seamline,None
SortField:
SortValue: null
Mosaic Operator: First
Default Compression Quality: 75
Default Resampling Method: Bilinear
Max Record Count: 1000
Max Image Height: 41000
Max Image Width: 1500000
Max Download Image Count: 2000
Max Mosaic Image Count: 5000
Allow Raster Function: true
Allow Copy: true
Allow Analysis: true
Allow Compute TiePoints: false
Supports Statistics: true
Supports Advanced Queries: true
Use StandardizedQueries: true
Raster Type Infos:
Name: Raster Dataset
Description: Supports all ArcGIS Raster Datasets
Help:
Has Raster Attribute Table: false
Edit Fields Info: null
Ownership Based AccessControl For Rasters: null
Child Resources:
Info
Histograms
Statistics
Key Properties
Legend
Raster Function Infos
Supported Operations:
Export Image
Query
Identify
Download Rasters
Compute Histograms
Compute Statistics Histograms
Get Samples
Compute Class Statistics
Query Boundary
Compute Pixel Location
Compute Angles
Validate
Project
Calculate Volume