{
 "currentVersion": 10.91,
 "serviceDescription": "Sonar/StJoe4_WP9",
 "name": "Sonar/StJoe4_WP9",
 "description": "",
 "extent": {
  "xmin": 541633,
  "ymin": 4663667.1,
  "xmax": 542742.6999999995,
  "ymax": 4664819.999999999,
  "spatialReference": {
   "wkid": 32616,
   "latestWkid": 32616
  }
 },
 "initialExtent": {
  "xmin": 541633,
  "ymin": 4663667.1,
  "xmax": 542742.6999999995,
  "ymax": 4664819.999999999,
  "spatialReference": {
   "wkid": 32616,
   "latestWkid": 32616
  }
 },
 "fullExtent": {
  "xmin": 541633,
  "ymin": 4663667.1,
  "xmax": 542742.6999999995,
  "ymax": 4664819.999999999,
  "spatialReference": {
   "wkid": 32616,
   "latestWkid": 32616
  }
 },
 "hasMultidimensions": false,
 "pixelSizeX": 0.059999999999972305,
 "pixelSizeY": 0.05999999999997092,
 "datasetFormat": "TIFF",
 "uncompressedSize": 1421525700,
 "blockWidth": 18495,
 "blockHeight": 32,
 "compressionType": "LZW",
 "bandNames": [
  "Band_1",
  "Band_2",
  "Band_3",
  "Band_4"
 ],
 "allowCopy": true,
 "allowAnalysis": true,
 "bandCount": 4,
 "pixelType": "U8",
 "minPixelSize": 0,
 "maxPixelSize": 0,
 "copyrightText": "",
 "serviceDataType": "esriImageServiceDataTypeGeneric",
 "serviceSourceType": "esriImageServiceSourceTypeDataset",
 "minValues": [
  0,
  0,
  0,
  0
 ],
 "maxValues": [
  254,
  252,
  0,
  255
 ],
 "meanValues": [
  12.21054819058,
  5.8658125983913,
  0,
  20.830610167649
 ],
 "stdvValues": [
  42.582575348386,
  22.02061381521,
  0,
  69.841902082638
 ],
 "objectIdField": "",
 "fields": [],
 "capabilities": "Image,Metadata,Mensuration",
 "defaultMosaicMethod": "Center",
 "allowedMosaicMethods": "",
 "sortField": "",
 "sortValue": null,
 "sortAscending": true,
 "mosaicOperator": "First",
 "defaultCompressionQuality": 75,
 "defaultResamplingMethod": "Bilinear",
 "maxImageHeight": 4100,
 "maxImageWidth": 15000,
 "allowRasterFunction": true,
 "rasterFunctionInfos": [
  {
   "name": "None",
   "description": "",
   "help": ""
  }
 ],
 "rasterTypeInfos": [
  {
   "name": "Raster Dataset",
   "description": "Supports all ArcGIS Raster Datasets",
   "help": ""
  }
 ],
 "mensurationCapabilities": "Basic",
 "hasHistograms": true,
 "hasColormap": false,
 "hasRasterAttributeTable": false,
 "minScale": 0,
 "maxScale": 0,
 "exportTilesAllowed": false,
 "supportsStatistics": false,
 "supportsAdvancedQueries": false,
 "editFieldsInfo": null,
 "ownershipBasedAccessControlForRasters": null,
 "allowComputeTiePoints": false,
 "useStandardizedQueries": true,
 "advancedQueryCapabilities": {
  "useStandardizedQueries": true,
  "supportsStatistics": false,
  "supportsOrderBy": false,
  "supportsDistinct": false,
  "supportsPagination": false
 },
 "spatialReference": {
  "wkid": 32616,
  "latestWkid": 32616
 }
}
