View In:
ArcGIS JavaScript
ArcGIS Online Map Viewer
ArcGIS Earth
ArcMap
View Footprint In:
ArcGIS Online Map Viewer
Service Description: Sonar/StJoe4_WP9
Name: Sonar/StJoe4_WP9
Description:
Single Fused Map Cache: false
Extent:
XMin: 541633
YMin: 4663667.1
XMax: 542742.6999999995
YMax: 4664819.999999999
Spatial Reference: 32616
(32616)
Initial Extent:
XMin: 541633
YMin: 4663667.1
XMax: 542742.6999999995
YMax: 4664819.999999999
Spatial Reference: 32616
(32616)
Full Extent:
XMin: 541633
YMin: 4663667.1
XMax: 542742.6999999995
YMax: 4664819.999999999
Spatial Reference: 32616
(32616)
Pixel Size X: 0.059999999999972305
Pixel Size Y: 0.05999999999997092
Band Count: 4
Pixel Type: U8
RasterFunction Infos: {"rasterFunctionInfos": [{
"name": "None",
"description": "",
"help": ""
}]}
Mensuration Capabilities: Basic
Has Histograms: true
Has Colormap: false
Has Multi Dimensions : false
Rendering Rule:
Min Scale: 0
Max Scale: 0
Copyright Text:
Service Data Type: esriImageServiceDataTypeGeneric
Min Values: 0, 0, 0, 0
Max Values: 254, 252, 0, 255
Mean Values: 12.21054819058, 5.8658125983913, 0, 20.830610167649
Standard Deviation Values: 42.582575348386, 22.02061381521, 0, 69.841902082638
Object ID Field:
Fields:
None
Default Mosaic Method: Center
Allowed Mosaic Methods:
SortField:
SortValue: null
Mosaic Operator: First
Default Compression Quality: 75
Default Resampling Method: Bilinear
Max Record Count: null
Max Image Height: 4100
Max Image Width: 15000
Max Download Image Count: null
Max Mosaic Image Count: null
Allow Raster Function: true
Allow Copy: true
Allow Analysis: true
Allow Compute TiePoints: false
Supports Statistics: false
Supports Advanced Queries: false
Use StandardizedQueries: true
Raster Type Infos:
Name: Raster Dataset
Description: Supports all ArcGIS Raster Datasets
Help:
Has Raster Attribute Table: false
Edit Fields Info: null
Ownership Based AccessControl For Rasters: null
Child Resources:
Info
Histograms
Statistics
Key Properties
Legend
Raster Function Infos
Supported Operations:
Export Image
Identify
Measure
Compute Histograms
Compute Statistics Histograms
Get Samples
Compute Class Statistics
Query Boundary
Compute Pixel Location
Compute Angles
Validate
Project