{
 "currentVersion": 10.91,
 "serviceDescription": "B_20to_12_tif",
 "name": "B_20to_12_tif",
 "description": "",
 "extent": {
  "xmin": 537993,
  "ymin": 4655797,
  "xmax": 546965,
  "ymax": 4667489,
  "spatialReference": {
   "wkid": 102385,
   "latestWkid": 6345,
   "vcsWkid": 5609,
   "latestVcsWkid": 5609
  }
 },
 "initialExtent": {
  "xmin": 537993,
  "ymin": 4655797,
  "xmax": 546965,
  "ymax": 4667489,
  "spatialReference": {
   "wkid": 102385,
   "latestWkid": 6345,
   "vcsWkid": 5609,
   "latestVcsWkid": 5609
  }
 },
 "fullExtent": {
  "xmin": 537993,
  "ymin": 4655797,
  "xmax": 546965,
  "ymax": 4667489,
  "spatialReference": {
   "wkid": 102385,
   "latestWkid": 6345,
   "vcsWkid": 5609,
   "latestVcsWkid": 5609
  }
 },
 "heightModelInfo": {
  "heightModel": "gravity_related_height",
  "vertCRS": "IGLD_1985",
  "heightUnit": "meter"
 },
 "hasMultidimensions": false,
 "pixelSizeX": 1,
 "pixelSizeY": 1,
 "datasetFormat": "TIFF",
 "uncompressedSize": 419602496,
 "blockWidth": 128,
 "blockHeight": 128,
 "compressionType": "LZW",
 "bandNames": [
  "Band_1"
 ],
 "allowCopy": true,
 "allowAnalysis": true,
 "bandCount": 1,
 "noDataValue": 3.3999999521443642E38,
 "noDataValues": [
  3.3999999521443642E38
 ],
 "pixelType": "F32",
 "minPixelSize": 0,
 "maxPixelSize": 0,
 "copyrightText": "",
 "serviceDataType": "esriImageServiceDataTypeGeneric",
 "serviceSourceType": "esriImageServiceSourceTypeDataset",
 "minValues": [
  -20.383331298828
 ],
 "maxValues": [
  31.642715454102
 ],
 "meanValues": [
  -0.0080778085214849
 ],
 "stdvValues": [
  0.68341785102834
 ],
 "objectIdField": "",
 "fields": [],
 "capabilities": "Image,Metadata,Mensuration",
 "defaultMosaicMethod": "Center",
 "allowedMosaicMethods": "",
 "sortField": "",
 "sortValue": null,
 "sortAscending": true,
 "mosaicOperator": "First",
 "defaultCompressionQuality": 75,
 "defaultResamplingMethod": "Bilinear",
 "maxImageHeight": 4100,
 "maxImageWidth": 15000,
 "allowRasterFunction": true,
 "rasterFunctionInfos": [
  {
   "name": "None",
   "description": "",
   "help": ""
  }
 ],
 "rasterTypeInfos": [
  {
   "name": "Raster Dataset",
   "description": "Supports all ArcGIS Raster Datasets",
   "help": ""
  }
 ],
 "mensurationCapabilities": "Basic",
 "hasHistograms": true,
 "hasColormap": false,
 "hasRasterAttributeTable": false,
 "minScale": 0,
 "maxScale": 0,
 "exportTilesAllowed": false,
 "supportsStatistics": false,
 "supportsAdvancedQueries": false,
 "editFieldsInfo": null,
 "ownershipBasedAccessControlForRasters": null,
 "allowComputeTiePoints": false,
 "useStandardizedQueries": true,
 "advancedQueryCapabilities": {
  "useStandardizedQueries": true,
  "supportsStatistics": false,
  "supportsOrderBy": false,
  "supportsDistinct": false,
  "supportsPagination": false
 },
 "spatialReference": {
  "wkid": 102385,
  "latestWkid": 6345,
  "vcsWkid": 5609,
  "latestVcsWkid": 5609
 }
}
