View In:
ArcGIS JavaScript
ArcGIS Online Map Viewer
ArcGIS Earth
ArcMap
View Footprint In:
ArcGIS Online Map Viewer
Service Description: B_20to_12_tif
Name: B_20to_12_tif
Description:
Single Fused Map Cache: false
Extent:
XMin: 537993
YMin: 4655797
XMax: 546965
YMax: 4667489
Spatial Reference: 102385
(6345)
VCSWkid(5609)
LatestVCSWkid(5609)
Initial Extent:
XMin: 537993
YMin: 4655797
XMax: 546965
YMax: 4667489
Spatial Reference: 102385
(6345)
VCSWkid(5609)
LatestVCSWkid(5609)
Full Extent:
XMin: 537993
YMin: 4655797
XMax: 546965
YMax: 4667489
Spatial Reference: 102385
(6345)
VCSWkid(5609)
LatestVCSWkid(5609)
Pixel Size X: 1.0
Pixel Size Y: 1.0
Band Count: 1
Pixel Type: F32
RasterFunction Infos: {"rasterFunctionInfos": [{
"name": "None",
"description": "",
"help": ""
}]}
Mensuration Capabilities: Basic
Has Histograms: true
Has Colormap: false
Has Multi Dimensions : false
Rendering Rule:
Min Scale: 0
Max Scale: 0
Copyright Text:
Service Data Type: esriImageServiceDataTypeGeneric
Min Values: -20.383331298828
Max Values: 31.642715454102
Mean Values: -0.0080778085214849
Standard Deviation Values: 0.68341785102834
Object ID Field:
Fields:
None
Default Mosaic Method: Center
Allowed Mosaic Methods:
SortField:
SortValue: null
Mosaic Operator: First
Default Compression Quality: 75
Default Resampling Method: Bilinear
Max Record Count: null
Max Image Height: 4100
Max Image Width: 15000
Max Download Image Count: null
Max Mosaic Image Count: null
Allow Raster Function: true
Allow Copy: true
Allow Analysis: true
Allow Compute TiePoints: false
Supports Statistics: false
Supports Advanced Queries: false
Use StandardizedQueries: true
Raster Type Infos:
Name: Raster Dataset
Description: Supports all ArcGIS Raster Datasets
Help:
Has Raster Attribute Table: false
Edit Fields Info: null
Ownership Based AccessControl For Rasters: null
Child Resources:
Info
Histograms
Statistics
Key Properties
Legend
Raster Function Infos
Supported Operations:
Export Image
Identify
Measure
Compute Histograms
Compute Statistics Histograms
Get Samples
Compute Class Statistics
Query Boundary
Compute Pixel Location
Compute Angles
Validate
Project